BEGIN:VCALENDAR
VERSION:2.0
PRODID:-//hacksw/handcal//NONSGML v1.0//EN
METHOD:PUBLISH
CALSCALE:GREGORIAN
BEGIN:VEVENT
UID:5e56642c6f653
DTSTART:20161220T080000Z
DTSTAMP:20200226T122724Z
DTEND:20161220T120000Z
LOCATION:Cathedral Square
DESCRIPTION:
URL;VALUE=URI:https://www.cathedralsquare.com.au/events/christmas-mar
 kets/
SUMMARY:Cathedral Square Pop-Up Christmas Markets
END:VEVENT
END:VCALENDAR
